BEGIN:VCALENDAR
VERSION:2.0
PRODID:-//Essence Training - ECPv6.15.20//NONSGML v1.0//EN
CALSCALE:GREGORIAN
METHOD:PUBLISH
X-WR-CALNAME:Essence Training
X-ORIGINAL-URL:https://www.essencetraining.de
X-WR-CALDESC:Veranstaltungen für Essence Training
REFRESH-INTERVAL;VALUE=DURATION:PT1H
X-Robots-Tag:noindex
X-PUBLISHED-TTL:PT1H
BEGIN:VTIMEZONE
TZID:Europe/Berlin
BEGIN:DAYLIGHT
TZOFFSETFROM:+0100
TZOFFSETTO:+0200
TZNAME:CEST
DTSTART:20260329T010000
END:DAYLIGHT
BEGIN:STANDARD
TZOFFSETFROM:+0200
TZOFFSETTO:+0100
TZNAME:CET
DTSTART:20261025T010000
END:STANDARD
BEGIN:DAYLIGHT
TZOFFSETFROM:+0100
TZOFFSETTO:+0200
TZNAME:CEST
DTSTART:20270328T010000
END:DAYLIGHT
BEGIN:STANDARD
TZOFFSETFROM:+0200
TZOFFSETTO:+0100
TZNAME:CET
DTSTART:20271031T010000
END:STANDARD
BEGIN:DAYLIGHT
TZOFFSETFROM:+0100
TZOFFSETTO:+0200
TZNAME:CEST
DTSTART:20280326T010000
END:DAYLIGHT
BEGIN:STANDARD
TZOFFSETFROM:+0200
TZOFFSETTO:+0100
TZNAME:CET
DTSTART:20281029T010000
END:STANDARD
END:VTIMEZONE
BEGIN:VEVENT
DTSTART;TZID=Europe/Berlin:20270420T190000
DTEND;TZID=Europe/Berlin:20270420T210000
DTSTAMP:20260423T004753
CREATED:20241119T114646Z
LAST-MODIFIED:20260405T214724Z
UID:3158-1808247600-1808254800@www.essencetraining.de
SUMMARY:Was dein Drittes Auge dir verrät... Free Online-Workshop
DESCRIPTION:Ein Workshop für Alle\, die sich für eine Synthese von Energie-Psychologie mit moderner Spiritualität interessieren. \nMargaretha Bessel und Mischa Thierfelder\, Leiter des Essence Training Deutschland und Internationale Seminarleiter mit 30 Jahren Erfahrung\, stellen ihre Energie-Trainings-Methoden vor und führen auf praktische und anschauliche Weise in das Thema “Selbstliebe\, Intimität und Passion“ und die Welt der Energie ein. \nWir treffen uns auf Zoom\, um das 6. Energiezentrum spielerisch zu erforschen. Wenn sich dein Drittes Auge öffnet\, nimmst du sowohl das menschliche Energiefeld als auch die Energien\, die zwischen dir und den Anderen fließen\, wahr. Und du kommst in Kontakt mit deiner Intuitiven Kraft.  \n\n\n \nNach einer Energy Shift Meditation führen wir dich in die Themen des Dritten Auges ein und nutzen dann spezifische Übungen\, um dieses Chakra in dir zu aktivieren. Es sind keine Vorkenntnisse notwendig. Margaretha und Mischa gehen auf persönliche Fragen ein und geben Hilfestellung für den Alltag. \nBitte melde dich auf unserer LANDING PAGE Free Online Workshop DRITTES AUGE bei Active Campaign an\, um den Link für die Zoom-Konferenz am Dienstag\, den 20.04.2027 um 19 Uhr per Email zu erhalten. \nWir lieben es\, Menschen in ihrem Wachstum zu unterstützen. Daher ist die Veranstaltung kostenlos. Wer mag: Eine Spende über PayPal an info@essencetraining.de unterstützt uns und unser Essence Training Team.
URL:https://www.essencetraining.de/workshop/was-dein-drittes-auge-dir-verraet-free-online-workshop/
LOCATION:Online via Zoom
CATEGORIES:Essence Training Deutschland
ATTACH;FMTTYPE=image/png:https://www.essencetraining.de/wp-content/uploads/2024/11/1.2-family_with_energy-colored_Comments_German-1-scaled.png
ORGANIZER;CN="Essence Training":MAILTO:info@essencetraining.de
END:VEVENT
END:VCALENDAR