BEGIN:VCALENDAR
VERSION:2.0
PRODID:-//Essence Training - ECPv6.15.20//NONSGML v1.0//EN
CALSCALE:GREGORIAN
METHOD:PUBLISH
X-WR-CALNAME:Essence Training
X-ORIGINAL-URL:https://www.essencetraining.de
X-WR-CALDESC:Veranstaltungen für Essence Training
REFRESH-INTERVAL;VALUE=DURATION:PT1H
X-Robots-Tag:noindex
X-PUBLISHED-TTL:PT1H
BEGIN:VTIMEZONE
TZID:Europe/Berlin
BEGIN:DAYLIGHT
TZOFFSETFROM:+0100
TZOFFSETTO:+0200
TZNAME:CEST
DTSTART:20270328T010000
END:DAYLIGHT
BEGIN:STANDARD
TZOFFSETFROM:+0200
TZOFFSETTO:+0100
TZNAME:CET
DTSTART:20271031T010000
END:STANDARD
BEGIN:DAYLIGHT
TZOFFSETFROM:+0100
TZOFFSETTO:+0200
TZNAME:CEST
DTSTART:20280326T010000
END:DAYLIGHT
BEGIN:STANDARD
TZOFFSETFROM:+0200
TZOFFSETTO:+0100
TZNAME:CET
DTSTART:20281029T010000
END:STANDARD
BEGIN:DAYLIGHT
TZOFFSETFROM:+0100
TZOFFSETTO:+0200
TZNAME:CEST
DTSTART:20290325T010000
END:DAYLIGHT
BEGIN:STANDARD
TZOFFSETFROM:+0200
TZOFFSETTO:+0100
TZNAME:CET
DTSTART:20291028T010000
END:STANDARD
END:VTIMEZONE
BEGIN:VEVENT
DTSTART;TZID=Europe/Berlin:20280208T190000
DTEND;TZID=Europe/Berlin:20280208T213000
DTSTAMP:20260423T075301
CREATED:20230526T093223Z
LAST-MODIFIED:20260403T145344Z
UID:1887-1833649200-1833658200@www.essencetraining.de
SUMMARY:Was deine Stimme dir verrät... Free Online-Workshop
DESCRIPTION:Wir beschäftigen uns an diesem Abend mit den Energien des 5. Energiezentrums. Deine Stimme kann die Energien deines Kehle Chakras offenbaren\, aber auch verschleiern oder verdecken. Wir analysieren\, wo vielleicht Blockaden in deiner Kehle sitzen und geben Hintergrundwissen zu möglichen Ursachen. Mit Meditation\, Energiediagnose und Energy Balancing beginnen wir\, einen neuen Zugang zum Kehle-Chakra zu entwickeln – einem machtvollen Instrument des Selbstausdrucks und der Kreativität. Wir beantworten persönliche Fragen und geben Hilfestellung für mögliche Lösungen. \nMelde dich gleich an auf unserer LANDINGPAGE Online-Workshop KEHLE und du bekommst umgehend ein Handout zur Einstimmung und den direkten Link zur Zoom-Konferenz zugeschickt. \nVeranstalter: Margaretha Bessel und Mischa Thierfelder\, Leiter des Essence Training Deutschland.\nTeilnahme: Offen für Alle. Es sind keine Vorkenntnisse notwendig.
URL:https://www.essencetraining.de/workshop/was-deine-stimme-dir-verraet/
LOCATION:Online via Zoom
CATEGORIES:Essence Training Deutschland
ATTACH;FMTTYPE=image/jpeg:https://www.essencetraining.de/wp-content/uploads/2023/05/mit-stimme-ueberzeugen-2480920014.jpg
ORGANIZER;CN="Essence Training":MAILTO:info@essencetraining.de
END:VEVENT
END:VCALENDAR