BEGIN:VCALENDAR
VERSION:2.0
PRODID:-//Essence Training - ECPv6.15.20//NONSGML v1.0//EN
CALSCALE:GREGORIAN
METHOD:PUBLISH
X-ORIGINAL-URL:https://www.essencetraining.de
X-WR-CALDESC:Veranstaltungen für Essence Training
REFRESH-INTERVAL;VALUE=DURATION:PT1H
X-Robots-Tag:noindex
X-PUBLISHED-TTL:PT1H
BEGIN:VTIMEZONE
TZID:America/Winnipeg
BEGIN:DAYLIGHT
TZOFFSETFROM:-0600
TZOFFSETTO:-0500
TZNAME:CDT
DTSTART:20240310T080000
END:DAYLIGHT
BEGIN:STANDARD
TZOFFSETFROM:-0500
TZOFFSETTO:-0600
TZNAME:CST
DTSTART:20241103T070000
END:STANDARD
BEGIN:DAYLIGHT
TZOFFSETFROM:-0600
TZOFFSETTO:-0500
TZNAME:CDT
DTSTART:20250309T080000
END:DAYLIGHT
BEGIN:STANDARD
TZOFFSETFROM:-0500
TZOFFSETTO:-0600
TZNAME:CST
DTSTART:20251102T070000
END:STANDARD
BEGIN:DAYLIGHT
TZOFFSETFROM:-0600
TZOFFSETTO:-0500
TZNAME:CDT
DTSTART:20260308T080000
END:DAYLIGHT
BEGIN:STANDARD
TZOFFSETFROM:-0500
TZOFFSETTO:-0600
TZNAME:CST
DTSTART:20261101T070000
END:STANDARD
END:VTIMEZONE
BEGIN:VTIMEZONE
TZID:Europe/Berlin
BEGIN:DAYLIGHT
TZOFFSETFROM:+0100
TZOFFSETTO:+0200
TZNAME:CEST
DTSTART:20240331T010000
END:DAYLIGHT
BEGIN:STANDARD
TZOFFSETFROM:+0200
TZOFFSETTO:+0100
TZNAME:CET
DTSTART:20241027T010000
END:STANDARD
BEGIN:DAYLIGHT
TZOFFSETFROM:+0100
TZOFFSETTO:+0200
TZNAME:CEST
DTSTART:20250330T010000
END:DAYLIGHT
BEGIN:STANDARD
TZOFFSETFROM:+0200
TZOFFSETTO:+0100
TZNAME:CET
DTSTART:20251026T010000
END:STANDARD
BEGIN:DAYLIGHT
TZOFFSETFROM:+0100
TZOFFSETTO:+0200
TZNAME:CEST
DTSTART:20260329T010000
END:DAYLIGHT
BEGIN:STANDARD
TZOFFSETFROM:+0200
TZOFFSETTO:+0100
TZNAME:CET
DTSTART:20261025T010000
END:STANDARD
END:VTIMEZONE
BEGIN:VEVENT
DTSTART;TZID=America/Winnipeg:20251214T100000
DTEND;TZID=America/Winnipeg:20251214T110000
DTSTAMP:20260422T171544
CREATED:20251117T215147Z
LAST-MODIFIED:20251210T143544Z
UID:3166-1765706400-1765710000@www.essencetraining.de
SUMMARY:Free ONLINE MEDITATION
DESCRIPTION:As every year\, we would like to invite you to our Holiday Season MEDITATION on Sunday\, December 14th\, 2025 at 10 am (Winnipeg time\, CST) on Zoom (free of charge).\n\n\n \n\n\nThe topic will be the “Power of the Heart”. We will tune into these energies of love and compassion and amplify them within ourselves and within the heart of humanity. The meditation is guided and everyone can participate. No previous experience is necessary. \n\n\n \n\n\nJust sign up at our LANDINGPAGE (https://essencetraining.ac-page.com/energybalancing-meditation-landingpage) and you will receive the Zoom-Link via email.\n\n\n \n\n\nIn love and friendship\, Margaretha Bessel and Mischa Thierfelder\,\n\n\nEssence Training & Energy Balancing
URL:https://www.essencetraining.de/workshop/holiday-meditation/
LOCATION:Online via Zoom
CATEGORIES:Canada Events,Energy Balancing Canada,Energy Shift Meditation,Essence Training Deutschland
ORGANIZER;CN="Energy Balancing Canada":MAILTO:info@energybalancing.me
END:VEVENT
BEGIN:VEVENT
DTSTART;TZID=Europe/Berlin:20251214T190000
DTEND;TZID=Europe/Berlin:20251214T200000
DTSTAMP:20260422T171544
CREATED:20251117T192047Z
LAST-MODIFIED:20251210T143350Z
UID:3143-1765738800-1765742400@www.essencetraining.de
SUMMARY:Kostenlose ONLINE MEDITATION
DESCRIPTION:Wir möchten euch wie jedes Jahr herzlich zu unserer MEDITATION am SONNTAG\, den 14. Dezember 2025 um 19 Uhr auf Zoom einladen (kostenlos). \nDas Thema wird die „Kraft des Herzens“ sein. Wir werden uns gemeinsam auf diese Energien der Liebe und des Mitgefühls einstimmen und sie in uns und im Herz der Menschheit verstärken. \nDie Meditation wird angeleitet und jeder kann mitmachen. Es sind keine Vorkenntnisse erforderlich. Melde dich über unsere LANDINGPAGE an\, und du erhältst automatisch den Zoom-Link. \nIn Liebe und Freundschaft\, Margaretha und Mischa
URL:https://www.essencetraining.de/workshop/meditation/
LOCATION:Manitoba
CATEGORIES:Energy Shift Meditation,Essence Training Deutschland,Essence Training Events
ORGANIZER;CN="Essence Training":MAILTO:info@essencetraining.de
END:VEVENT
END:VCALENDAR